BEGIN:VCALENDAR
VERSION:2.0
PRODID:-//NOFA/RI - ECPv6.15.11//NONSGML v1.0//EN
CALSCALE:GREGORIAN
METHOD:PUBLISH
X-ORIGINAL-URL:https://nofari.org
X-WR-CALDESC:Events for NOFA/RI
REFRESH-INTERVAL;VALUE=DURATION:PT1H
X-Robots-Tag:noindex
X-PUBLISHED-TTL:PT1H
BEGIN:VTIMEZONE
TZID:America/New_York
BEGIN:DAYLIGHT
TZOFFSETFROM:-0500
TZOFFSETTO:-0400
TZNAME:EDT
DTSTART:20250309T070000
END:DAYLIGHT
BEGIN:STANDARD
TZOFFSETFROM:-0400
TZOFFSETTO:-0500
TZNAME:EST
DTSTART:20251102T060000
END:STANDARD
BEGIN:DAYLIGHT
TZOFFSETFROM:-0500
TZOFFSETTO:-0400
TZNAME:EDT
DTSTART:20260308T070000
END:DAYLIGHT
BEGIN:STANDARD
TZOFFSETFROM:-0400
TZOFFSETTO:-0500
TZNAME:EST
DTSTART:20261101T060000
END:STANDARD
BEGIN:DAYLIGHT
TZOFFSETFROM:-0500
TZOFFSETTO:-0400
TZNAME:EDT
DTSTART:20270314T070000
END:DAYLIGHT
BEGIN:STANDARD
TZOFFSETFROM:-0400
TZOFFSETTO:-0500
TZNAME:EST
DTSTART:20271107T060000
END:STANDARD
END:VTIMEZONE
BEGIN:VEVENT
DTSTART;TZID=America/New_York:20260303T080000
DTEND;TZID=America/New_York:20260303T123000
DTSTAMP:20260422T110025
CREATED:20260302T172318Z
LAST-MODIFIED:20260302T172631Z
UID:15013-1772524800-1772541000@nofari.org
SUMMARY:Advanced Grower Training
DESCRIPTION:  \nAdvanced Grower Training with Sandy Arnold\nTues March 3\, 8:00 – 12:30* \nIn-person at URI:\nBuilding 75 Classroom at URI’s East Farm (1 E Farm Rd Kingston\, RI 02881) \nJoin us for an informative presentation led by Sandy Arnold of Pleasant Valley Farm in Argyle NY. Formal agenda coming soon but please note presentation will begin at 8:30. \nTopics will include:\n* Efficiencies for profit over 38 years\n* Mulching & weed control\n* Wash & Pack \nFood & Coffee will be provided.\nThis event is targeted toward commercial growers. \nThis workshop is co sponsored by TOPP as part of NOFA RI’s technical education and community-building grant. \nClick here to register!  (https://nofari.us5.list-manage.com/track/click?u=a47c5782c1d82213f306481f0&id=72010a136f&e=9121439b3b) \n* Due to the blizzard this week we have rescheduled the training workshop for next week\, Tues March 3. We hope you are safe\, warm and there has been minimal damage to your home\, garden\, farm and infrastructures. We hope the new date works for you and maybe even works better!\nSee you there 🙂
URL:https://nofari.org/event/advanced-grower-training/
CATEGORIES:Workshop
END:VEVENT
END:VCALENDAR